BEGIN:VCALENDAR
VERSION:2.0
METHOD:PUBLISH
BEGIN:VEVENT
DTSTART:20200229T114500
DTEND:20200229T120000
LOCATION:5/166 Russell Avenue DOLLS POINT, NSW 2219
TRANSP: OPAQUE
SEQUENCE:0
UID:
DTSTAMP:20200302T065659Z
SUMMARY:Home Open - Simply Stunning
DESCRIPTION:An immaculate modern apartment located in the heart of Dolls Point.

This stylish apartment features timber floors throughout, an up-to date kitchen with quality stainless steel appliances, with 2 well-lit bedrooms both with built-ins, a trendy modernised bathroom, with a spacious lounge room, internal laundry and car space. 

Enjoy what Dolls Point has to offer right at your doorstep including lovely beaches, local cafes & restaurants, shops, and much more.

Please call our office on 9553 6335 to make an appointment to view.
PRIORITY:1
CLASS:PUBLIC
BEGIN:VALARM
TRIGGER:-PT10080M
ACTION:DISPLAY
DESCRIPTION:Reminder
END:VALARM
END:VEVENT
END:VCALENDAR
